BEGIN:VCALENDAR
VERSION:2.0
PRODID:-//eventon.com NONSGML v1.0//EN
CALSCALE:GREGORIAN
METHOD:PUBLISH
BEGIN:VEVENT
UID:69e6de904f65d
DTSTAMP:20260421T021856Z
DTSTART:20200420T010000Z
DTEND:20200530T230000Z
LOCATION:
SUMMARY:Appel à projet photographique par HANGAR
DESCRIPTION:Hangar a lancé ce lundi 20 avril 2020\,  un appel à projet ph
 otographique ouvert aux artistes confinés en Europe\,  sur le thème «le 
 monde intérieur». Les photographes sélectionnés seront exposés lors du
  PhotoBrussels Festival 05. Thème : "Le monde intérieur". Mission: vivre 
 le confinement. La grande majorité du continent européen[..]\nhttps://ope
 neyelemagazine.fr/events/appel-a-projet-photographique-par-hangar/
URL:https://openeyelemagazine.fr/events/appel-a-projet-photographique-par-hangar/
END:VEVENT
END:VCALENDAR