BEGIN:VCALENDAR
VERSION:2.0
PRODID:-//eventon.com NONSGML v1.0//EN
CALSCALE:GREGORIAN
METHOD:PUBLISH
BEGIN:VEVENT
UID:69e7391c1cfab
DTSTAMP:20260421T084516Z
DTSTART:20200311T100000Z
DTEND:20200607T180000Z
LOCATION:Galerie GADCOLLECTION 4 rue du Pont Louis-Philippe 75004 Paris
SUMMARY:CÁSSIO VASCONCELLOS - "A PICTURESQUE VOYAGE THROUGH BRAZIL"
DESCRIPTION:la Galerie GADCOLLECTION accueille le premier solo show de cett
 e série\,  en Europe\,  du grand photographe brésilien Cássio VASCONCELL
 OS. Du 11 mars au 7 juin 2020\,  la Galerie GADCOLLECTION présentera 12 ph
 otographies\,  pour la plupart jamais exposées. L’Amazonie et la Forêt 
 Atlantique\,  aujourd’hui au centre de l’urgence climatique et écologi
 que\, [..]\nhttps://openeyelemagazine.fr/events/cassio-vasconcellos/
URL:https://openeyelemagazine.fr/events/cassio-vasconcellos/
END:VEVENT
END:VCALENDAR