BEGIN:VCALENDAR
VERSION:2.0
PRODID:-//eventon.com NONSGML v1.0//EN
CALSCALE:GREGORIAN
METHOD:PUBLISH
BEGIN:VEVENT
UID:69e739ad88613
DTSTAMP:20260421T084741Z
DTSTART:20221203T042500Z
DTEND:20221205T042500Z
LOCATION:
SUMMARY:FÃªte de la galerie dâ€™art
DESCRIPTION:La FÃªte de la galerie dâ€™art est un Ã©vÃ©nement national annu
 el qui vise Ã  mettre en valeur les galeries dâ€™art de lâ€™hexagone durant
  le WE du 2 au 4 dÃ©cembre (du vendredi au dimanche). A lâ€™occasion de lâ€
 ™Ã©vÃ©nement\,  les galeries proposent aux visiteurs\,  en appliquant les r
 Ã¨gles sanitaires en vigueur\, [..]\nhttps://openeyelemagazine.fr/events/fe
 te-de-la-galerie-dart/
URL:https://openeyelemagazine.fr/events/fete-de-la-galerie-dart/
END:VEVENT
END:VCALENDAR