BEGIN:VCALENDAR
VERSION:2.0
PRODID:-//eventon.com NONSGML v1.0//EN
CALSCALE:GREGORIAN
METHOD:PUBLISH
BEGIN:VEVENT
UID:69eca205d33cb
DTSTAMP:20260425T111413Z
DTSTART:20221001
DTEND:20221002
LOCATION:
SUMMARY:Automne Photographique en Champsaur
DESCRIPTION:L'automne photographique en Champsaur revient ! Forte du succè
 s des éditions précédentes\,  «&nbsp;REGARDS ALPINS&nbsp;»\,  associat
 ion de promotion de la photographie d'auteur au sein de l'Arc Alpin\,  orga
 nise les 01 et 02 octobre 2022 la 9ème édition des rencontres : "Automne 
 Photographique en Champsaur". La manifestation aura lieu à la salle[..]\nh
 ttps://openeyelemagazine.fr/events/automne-photographique-en-champsaur/
URL:https://openeyelemagazine.fr/events/automne-photographique-en-champsaur/
END:VEVENT
END:VCALENDAR